BEGIN:VCALENDAR
VERSION:2.0
PRODID:-//Student Experience Network - ECPv6.10.0//NONSGML v1.0//EN
CALSCALE:GREGORIAN
METHOD:PUBLISH
X-WR-CALNAME:Student Experience Network
X-ORIGINAL-URL:https://studentexperiencenetwork.com.au
X-WR-CALDESC:Events for Student Experience Network
REFRESH-INTERVAL;VALUE=DURATION:PT1H
X-Robots-Tag:noindex
X-PUBLISHED-TTL:PT1H
BEGIN:VTIMEZONE
TZID:Australia/Sydney
BEGIN:STANDARD
TZOFFSETFROM:+1100
TZOFFSETTO:+1000
TZNAME:AEST
DTSTART:20250405T160000
END:STANDARD
BEGIN:DAYLIGHT
TZOFFSETFROM:+1000
TZOFFSETTO:+1100
TZNAME:AEDT
DTSTART:20251004T160000
END:DAYLIGHT
END:VTIMEZONE
BEGIN:VEVENT
DTSTART;VALUE=DATE:20250724
DTEND;VALUE=DATE:20250725
DTSTAMP:20260422T065922
CREATED:20250718T045001Z
LAST-MODIFIED:20250718T045946Z
UID:23250-1753315200-1753401599@studentexperiencenetwork.com.au
SUMMARY:GRANT-NSW - Gone Fishing Day Grants
DESCRIPTION:Supports recreational fishing clubs and associated organisations to purchase items required to run their own Gone Fishing Day events\, such as casting and fishing activities\, on or around Gone Fishing Day. \n\n\nGone Fishing Day fishing packages or grants support fishing clubs and associated organisations to run events to promote and celebrate fishing on or around Gone Fishing Day. \nWho can apply\n– Recreational fishing clubs and associated organisations \nTypes of projects funded under this grant\n– Gone Fishing Day fishing packages or grants support fishing clubs and associated organisations to promote and celebrate fishing through the running of events on or around Gone Fishing Day. \nApplicants can apply for grants to purchase or hire fishing gear\, bait\, food and non-alcoholic drinks\, participant giveaways and other equipment required to run a local Gone Fishing Day event and associated activities. \nTo be eligible for a package the fishing club or organisation must:\n– Be a previously established recreational fishing club or associated organisation\n– Be able to host a Gone Fishing Day event prior to 30 November 2025\n– Only apply for one fishing package per organisation per event\n– Complete the application in full (with sufficient detail to enable a sound assessment)\n– Show clearly how the project team will deliver the project (including adequacy of expertise within the project team)\n– Have submitted final reports and evidence of project expenditure to DPIRD for all past Gone Fishing Day grants (if relevant).
URL:https://studentexperiencenetwork.com.au/event/grant-nsw-gone-fishing-day-grants/
CATEGORIES:Clubs & Societies,GRANT - NSW,Sport & Recreation
END:VEVENT
END:VCALENDAR